BEGIN:VCALENDAR
VERSION:2.0
PRODID:KKTIX
CALSCALE:GREGORIAN
METHOD:PUBLISH
BEGIN:VTIMEZONE
TZID:Asia/Taipei
END:VTIMEZONE
BEGIN:VEVENT
DTSTAMP:20260420T145116Z
UID:292f276f-abe2-4703-96e6-25df611d4e6e
DTSTART:20260912T110000Z
DTEND:20260912T110000Z
CLASS:PUBLIC
DESCRIPTION:https://offtimemusic.kktix.cc/events/ren2026
LOCATION: (臺北市南港區市民大道八段99號) LEGACY TERA
SUMMARY:れん ONEMAN LIVE 2026 -懸想歌- in Taipei
END:VEVENT
END:VCALENDAR
